BEGIN:VCALENDAR
VERSION:2.0
PRODID:-//PSSV Saarbrücken II e.V. - ECPv6.15.20//NONSGML v1.0//EN
CALSCALE:GREGORIAN
METHOD:PUBLISH
X-ORIGINAL-URL:https://pssv2sb-dev.de
X-WR-CALDESC:Veranstaltungen für PSSV Saarbrücken II e.V.
REFRESH-INTERVAL;VALUE=DURATION:PT1H
X-Robots-Tag:noindex
X-PUBLISHED-TTL:PT1H
BEGIN:VTIMEZONE
TZID:Europe/Helsinki
BEGIN:DAYLIGHT
TZOFFSETFROM:+0200
TZOFFSETTO:+0300
TZNAME:EEST
DTSTART:20250330T010000
END:DAYLIGHT
BEGIN:STANDARD
TZOFFSETFROM:+0300
TZOFFSETTO:+0200
TZNAME:EET
DTSTART:20251026T010000
END:STANDARD
BEGIN:DAYLIGHT
TZOFFSETFROM:+0200
TZOFFSETTO:+0300
TZNAME:EEST
DTSTART:20260329T010000
END:DAYLIGHT
BEGIN:STANDARD
TZOFFSETFROM:+0300
TZOFFSETTO:+0200
TZNAME:EET
DTSTART:20261025T010000
END:STANDARD
BEGIN:DAYLIGHT
TZOFFSETFROM:+0200
TZOFFSETTO:+0300
TZNAME:EEST
DTSTART:20270328T010000
END:DAYLIGHT
BEGIN:STANDARD
TZOFFSETFROM:+0300
TZOFFSETTO:+0200
TZNAME:EET
DTSTART:20271031T010000
END:STANDARD
END:VTIMEZONE
BEGIN:VEVENT
DTSTART;VALUE=DATE:20260913
DTEND;VALUE=DATE:20260914
DTSTAMP:20260421T234047
CREATED:20260418T144021Z
LAST-MODIFIED:20260420T193924Z
UID:1843-1789257600-1789343999@pssv2sb-dev.de
SUMMARY:Unser beliebtes Hunderennen
DESCRIPTION:🐾 Auf die Pfoten\, fertig\, LOS! 🐾\nDas große Hunderennen beim PSSV Saarbrücken II e.V.\nIst Euer Hund die schnellste Fellnase im Saarland? Oder hat er einfach nur riesigen Spaß am Flitzen? Dann streicht Euch diesen Termin rot im Kalender an! \nWir laden alle Hundefreunde\, Sprinter und Hobby-Renner herzlich zu unserem Hunderennen ein. Ob Dackel oder Dogge – bei uns zählt der Spaß an der Bewegung! \n📅 Wann & Wo?\n\nOrt: Vereinsgelände des PSSV Saarbrücken II e.V.\nBeginn: Einschreibung ab 9:00 Uhr; Start ab ca. 10:00 Uhr\n\n🏆 Was erwartet euch?\n\nRennspaß für alle: Verschiedene Größenklassen sorgen für faire Bedingungen.\nFür das leibliche Wohl: Bestens gesorgt! Es gibt Kaltgetränke\, Kaffee\, Kuchen\, Herzhaftes vom Grill und Salate.\nTolle Preise: Ruhm\, Ehre und natürlich kleine Belohnungen für die schnellsten Pfoten.\nGemeinschaft: Ein schöner Tag unter Gleichgesinnten auf unserem tollen Gelände.\n\n📝 Anmeldung & Details\n\nStartgebühr: 8\,00 €\nAnmeldung via: Vor Ort ab 9:00 Uhr\nVoraussetzung: Ein gültiger Impfschutz und eine Hundehaftpflichtversicherung sind Pflicht.\n\nHinweis: Jeder Hund läuft einzeln auf einer abgesteckten Strecke – wir stoppen die Zeit per elektronischer Messanlage. \nDer Spaß steht absolut im Vordergrund \nWir freuen uns auf Euch und Eure vierbeinigen Raketen \nEuer Team vom PSSV Saarbrücken II e.V.
URL:https://pssv2sb-dev.de/event/1843/
END:VEVENT
END:VCALENDAR